BEGIN:VCALENDAR
VERSION:2.0
PRODID:-//hacksw/handcal//NONSGML v1.0//EN
BEGIN:VEVENT
SUMMARY:Grand jeu de Paques
UID:8de3484e-571a-4975-8025-51a0255f6c5d
DTSTART:20260420T183000Z
DTEND:20260420T203000Z
LOCATION:Localisation   
CATEGORIES:Festif
STATUS:
URL;VALUE=URI:https://www.baditeuil.fr/evenements/2026/04/20/grand-jeu-de-paques-2435901
END:VEVENT
END:VCALENDAR
