BEGIN:VCALENDAR
VERSION:2.0
PRODID:-//hacksw/handcal//NONSGML v1.0//EN
BEGIN:VEVENT
SUMMARY:Seance PROLONGEE des matinaux 09h-12h
UID:f3c5e4a3-49f2-4f66-96d4-0f16fb3f901d
DTSTART:20260411T070000Z
DTEND:20260411T100000Z
LOCATION:Localisation   
CATEGORIES:Sportif
STATUS:
URL;VALUE=URI:https://www.baditeuil.fr/evenements/2026/04/11/seance-prolongee-des-matinaux-09h-12h-2366234
END:VEVENT
END:VCALENDAR
