BEGIN:VCALENDAR
VERSION:2.0
PRODID:-//hacksw/handcal//NONSGML v1.0//EN
BEGIN:VEVENT
SUMMARY:fermeture du complexe sportif
UID:ff0fbd92-3158-4612-baf8-d08174dccb84
DTSTART:20260411T100000Z
DTEND:20260419T220000Z
LOCATION:Localisation   
CATEGORIES:Sportif
STATUS:
URL;VALUE=URI:https://www.baditeuil.fr/evenements/2026/04/11/fermeture-du-complexe-sportif-2433247
END:VEVENT
END:VCALENDAR
